BEGIN:VCALENDAR
VERSION:2.0
PRODID:-//wp-events-plugin.com//7.2.3.1//EN
TZID:Europe/Berlin
X-WR-TIMEZONE:Europe/Berlin
BEGIN:VEVENT
UID:1445@altamann.com
DTSTART;TZID=Europe/Berlin:20260429T180000
DTEND;TZID=Europe/Berlin:20260429T220000
DTSTAMP:20260425T153408Z
URL:https://altamann.com/events/2nd-soul-bei-speiches-r-b-stage/
SUMMARY:2nd Soul bei Speiches R & B Stage
DESCRIPTION:2nd Soul bei Speiches R & B Stage – die zweite Seele des Soul
 s – spielt für Euch die All-Time-Klassiker vom Barry bis White\, von Am
 y bis Winehouse\, von Stevie bis Wonder\, von Earth bis Wind and Fire oder
  von Tower bis Power. 2nd Soul lässt die großen Stars des Soul\, Funk un
 d RnB wiederauferstehen.
ATTACH;FMTTYPE=image/jpeg:https://altamann.com/wp-content/uploads/2026/04/
 Speiches-RB-Stage-29.4.26.webp
LOCATION:Club 23 / im Soda Club Berlin\, Schönhauser Allee 36\, 10435 Berl
 in\, Deutschland
X-APPLE-STRUCTURED-LOCATION;VALUE=URI;X-ADDRESS=Schönhauser Allee 36\, 104
 35 Berlin\, Deutschland;X-APPLE-RADIUS=100;X-TITLE=Club 23 / im Soda Club 
 Berlin:geo:0,0
END:VEVENT
BEGIN:VTIMEZONE
TZID:Europe/Berlin
X-LIC-LOCATION:Europe/Berlin
BEGIN:DAYLIGHT
DTSTART:20260329T030000
TZOFFSETFROM:+0100
TZOFFSETTO:+0200
TZNAME:CEST
END:DAYLIGHT
END:VTIMEZONE
END:VCALENDAR