BEGIN:VCALENDAR
VERSION:2.0
PRODID:-//wp-events-plugin.com//7.2.3.1//EN
TZID:Europe/Berlin
X-WR-TIMEZONE:Europe/Berlin
BEGIN:VEVENT
UID:709@altamann.com
DTSTART;TZID=Europe/Berlin:20240127T100000
DTEND;TZID=Europe/Berlin:20240127T144500
DTSTAMP:20240107T130127Z
URL:https://altamann.com/events/4-the-dark-paths-festival-warm-up/
SUMMARY:4.The Dark Paths Festival Warm up
DESCRIPTION:4.The Dark Paths Festival Warm up - Black Metal Festival
ATTACH;FMTTYPE=image/jpeg:https://altamann.com/wp-content/uploads/2023/11/
 Dark-Path-Festival-Warm-Up.webp
LOCATION:Dorfkrug\, Otisstraße 40\, 13403 Berlin\, Deutschland
X-APPLE-STRUCTURED-LOCATION;VALUE=URI;X-ADDRESS=Otisstraße 40\, 13403 Berl
 in\, Deutschland;X-APPLE-RADIUS=100;X-TITLE=Dorfkrug:geo:0,0
END:VEVENT
BEGIN:VTIMEZONE
TZID:Europe/Berlin
X-LIC-LOCATION:Europe/Berlin
BEGIN:STANDARD
DTSTART:20231029T020000
TZOFFSETFROM:+0200
TZOFFSETTO:+0100
TZNAME:CET
END:STANDARD
END:VTIMEZONE
END:VCALENDAR