BEGIN:VCALENDAR
VERSION:2.0
PRODID:-//wp-events-plugin.com//7.2.3.1//EN
TZID:Europe/Berlin
X-WR-TIMEZONE:Europe/Berlin
BEGIN:VEVENT
UID:1160@altamann.com
DTSTART;TZID=Europe/Berlin:20241206T200000
DTEND;TZID=Europe/Berlin:20241206T223000
DTSTAMP:20241206T203548Z
URL:https://altamann.com/events/acoustic-christmas-mckinley-black-friends/
SUMMARY:Acoustic Christmas | MCKINLEY BLACK & FRIENDS
DESCRIPTION:Acoustic Christmas | MCKINLEY BLACK & FRIENDS - Machen Sie sich
  bereit für Mckinley Blacks groovige Weihnachtsshow: ein spektakulärer A
 bend voller Musik\, der die Wärme klassischer amerikanischer Weihnachtsso
 ngs mit einem souligen Blues-Twist verbindet. Die diesjährige Show nimmt 
 Sie auf eine musikalische Reise mit\, die gefüllt ist mit sanften Gitarre
 nriffs\, kraftvollen Vocals und Rhythmen\, die Sie vom ersten bis zum letz
 ten Ton mitreißen werden. Als besonderer Gast wird die international beka
 nnte Mundharmonika-Spielerin Kat Baloun mit meisterhaften\, bluesigen Klä
 ngen eine extra Portion festlicher Magie hinzufügen\, die diesen Abend zu
  einem unvergesslichen Erlebnis machen.
ATTACH;FMTTYPE=image/jpeg:https://altamann.com/wp-content/uploads/2024/12/
 Acoustic-Christmas.webp
LOCATION:WABE\, Danziger Straße 101\, 10405 Berlin\, Deutschland
X-APPLE-STRUCTURED-LOCATION;VALUE=URI;X-ADDRESS=Danziger Straße 101\, 1040
 5 Berlin\, Deutschland;X-APPLE-RADIUS=100;X-TITLE=WABE:geo:0,0
END:VEVENT
BEGIN:VTIMEZONE
TZID:Europe/Berlin
X-LIC-LOCATION:Europe/Berlin
BEGIN:STANDARD
DTSTART:20241027T020000
TZOFFSETFROM:+0200
TZOFFSETTO:+0100
TZNAME:CET
END:STANDARD
END:VTIMEZONE
END:VCALENDAR