BEGIN:VCALENDAR
VERSION:2.0
PRODID:-//wp-events-plugin.com//7.2.3.1//EN
TZID:Europe/Berlin
X-WR-TIMEZONE:Europe/Berlin
BEGIN:VEVENT
UID:711@altamann.com
DTSTART;TZID=Europe/Berlin:20231227T210000
DTEND;TZID=Europe/Berlin:20231227T234500
DTSTAMP:20231128T202002Z
URL:https://altamann.com/events/alfred-mehnert-und-das-berlin-metropol-orc
 hestra-2/
SUMMARY:Alfred Mehnert und das Berlin Metropol Orchestra
DESCRIPTION:Alfred Mehnert und das Berlin Metropol Orchestra - Wenn der Jaz
 z wieder groovt\, wenn die Salsa nach der Knef klingt\, sich der Soul in d
 eutscher Sprache durch den Äther swingt und die Posaune dem türkischen S
 prechgesang Paul-Linkisch zur Seite steht\, dann sind wir wohl im neuen Be
 rlin gelandet.
ATTACH;FMTTYPE=image/jpeg:https://altamann.com/wp-content/uploads/2023/11/
 Alfred-Mehnert-und-das-Berlin-Metropol-Orchestra.webp
LOCATION:Zig Zag Jazz Club\, Hauptstraße 89\, 12159 Berlin\, Deutschland
X-APPLE-STRUCTURED-LOCATION;VALUE=URI;X-ADDRESS=Hauptstraße 89\, 12159 Ber
 lin\, Deutschland;X-APPLE-RADIUS=100;X-TITLE=Zig Zag Jazz Club:geo:0,0
END:VEVENT
BEGIN:VTIMEZONE
TZID:Europe/Berlin
X-LIC-LOCATION:Europe/Berlin
BEGIN:STANDARD
DTSTART:20231029T020000
TZOFFSETFROM:+0200
TZOFFSETTO:+0100
TZNAME:CET
END:STANDARD
END:VTIMEZONE
END:VCALENDAR