BEGIN:VCALENDAR
VERSION:2.0
PRODID:-//wp-events-plugin.com//7.2.3.1//EN
TZID:Europe/Berlin
X-WR-TIMEZONE:Europe/Berlin
BEGIN:VEVENT
UID:487@altamann.com
DTSTART;TZID=Europe/Berlin:20230524T180000
DTEND;TZID=Europe/Berlin:20230524T220000
DTSTAMP:20230523T152757Z
URL:https://altamann.com/events/ann-jangle-band/
SUMMARY:30 Jahre Speiches R&B Kneipe - Ann Jangle Band + Bluestift
DESCRIPTION:Ann Jangle Band - 30 Jahre Speiches R&B Kneipe - 2 Bands - Ann 
 Jangle (South Africa)& Band - Folk\, Rock\, Soul\, Blues feat. Peter Schmi
 dt (East Blues Experience) u. Manne Pokrandt (Engerling) und Bluestift - R
 ock\, Blues
ATTACH;FMTTYPE=image/jpeg:https://altamann.com/wp-content/uploads/2023/05/
 Ann-Jangle.webp
LOCATION:Club 23 / im Soda Club Berlin\, Schönhauser Allee 36\, 10435 Berl
 in\, Deutschland
X-APPLE-STRUCTURED-LOCATION;VALUE=URI;X-ADDRESS=Schönhauser Allee 36\, 104
 35 Berlin\, Deutschland;X-APPLE-RADIUS=100;X-TITLE=Club 23 / im Soda Club 
 Berlin:geo:0,0
END:VEVENT
BEGIN:VTIMEZONE
TZID:Europe/Berlin
X-LIC-LOCATION:Europe/Berlin
BEGIN:DAYLIGHT
DTSTART:20230326T030000
TZOFFSETFROM:+0100
TZOFFSETTO:+0200
TZNAME:CEST
END:DAYLIGHT
END:VTIMEZONE
END:VCALENDAR