BEGIN:VCALENDAR
VERSION:2.0
PRODID:-//wp-events-plugin.com//7.2.3.1//EN
TZID:Europe/Berlin
X-WR-TIMEZONE:Europe/Berlin
BEGIN:VEVENT
UID:1444@altamann.com
DTSTART;TZID=Europe/Berlin:20260425T170000
DTEND;TZID=Europe/Berlin:20260425T200000
DTSTAMP:20260423T140253Z
URL:https://altamann.com/events/annemarie-van-hoof-live-in-der-guitar-loun
 ge-berlin/
SUMMARY:Annemarie van Hoof live in der Guitar Lounge Berlin
DESCRIPTION:Annemarie van Hoof live in der Guitar Lounge Berlin - Am Freita
 g verzaubert euch die Songwriterin Annemarie van Hoof mit ihren Songs! Res
 erviert euch noch schnell ein Plätzchen!
ATTACH;FMTTYPE=image/jpeg:https://altamann.com/wp-content/uploads/2026/04/
 Annemarie-van-Hoof-25.4.2026-Guitar-Lounge-Berlin.webp
LOCATION:Guitar Lounge Berlin - Spandau\, Heerstraße 223\, 13595 Berlin\, 
 Deutschland
X-APPLE-STRUCTURED-LOCATION;VALUE=URI;X-ADDRESS=Heerstraße 223\, 13595 Ber
 lin\, Deutschland;X-APPLE-RADIUS=100;X-TITLE=Guitar Lounge Berlin - Spanda
 u:geo:0,0
END:VEVENT
BEGIN:VTIMEZONE
TZID:Europe/Berlin
X-LIC-LOCATION:Europe/Berlin
BEGIN:DAYLIGHT
DTSTART:20260329T030000
TZOFFSETFROM:+0100
TZOFFSETTO:+0200
TZNAME:CEST
END:DAYLIGHT
END:VTIMEZONE
END:VCALENDAR