BEGIN:VCALENDAR
VERSION:2.0
PRODID:-//wp-events-plugin.com//7.2.3.1//EN
TZID:Europe/Berlin
X-WR-TIMEZONE:Europe/Berlin
BEGIN:VEVENT
UID:695@altamann.com
DTSTART;TZID=Europe/Berlin:20231202T203000
DTEND;TZID=Europe/Berlin:20231202T233000
DTSTAMP:20231121T185745Z
URL:https://altamann.com/events/aus-liebe-die-band/
SUMMARY:AUS LIEBE | Die Band
DESCRIPTION:AUS LIEBE – die band pflegen das musikalische Erbe der Westbe
 rliner Kultband I N T E R Z O N E. Volker Fröhmer schreibt auf rockblogbl
 uesspot.com über die Musik von INTERZONE: “radikal\, ruppig\, respektlo
 s\, rauh: Rhythm & Blues\, wie er dunkler\, rockiger und fetziger nicht se
 in könnte und Blues\, der dir die Pelle auf links dreht. Einfache Musik\,
  immer geradeaus.“
ATTACH;FMTTYPE=image/jpeg:https://altamann.com/wp-content/uploads/2023/11/
 Aus-Liebe-Hafenbar-Tegel-2.12.2023.webp
LOCATION:Hafenbar Tegel\, Wilkestraße 1-5\, 13507 Berlin\, Deutschland
X-APPLE-STRUCTURED-LOCATION;VALUE=URI;X-ADDRESS=Wilkestraße 1-5\, 13507 Be
 rlin\, Deutschland;X-APPLE-RADIUS=100;X-TITLE=Hafenbar Tegel:geo:0,0
END:VEVENT
BEGIN:VTIMEZONE
TZID:Europe/Berlin
X-LIC-LOCATION:Europe/Berlin
BEGIN:STANDARD
DTSTART:20231029T020000
TZOFFSETFROM:+0200
TZOFFSETTO:+0100
TZNAME:CET
END:STANDARD
END:VTIMEZONE
END:VCALENDAR