BEGIN:VCALENDAR
VERSION:2.0
PRODID:-//wp-events-plugin.com//7.2.3.1//EN
TZID:Europe/Berlin
X-WR-TIMEZONE:Europe/Berlin
BEGIN:VEVENT
UID:698@altamann.com
DTSTART;TZID=Europe/Berlin:20241115T203000
DTEND;TZID=Europe/Berlin:20241115T233000
DTSTAMP:20240817T204536Z
URL:https://altamann.com/events/behind-the-curtains/
SUMMARY:Behind The Curtains
DESCRIPTION:Behind The Curtains - Die Band aus Berlin spielt Eigenkompositi
 onen und Cover-Versionen. Diesen geben sie ihre ganz eigene Note. Es entst
 ehen außergewöhnliche Auftritte. Konzerte mit Momenten zum Tanzen und Mi
 tmachen.
ATTACH;FMTTYPE=image/jpeg:https://altamann.com/wp-content/uploads/2023/11/
 Behind-The-Curtains.webp
LOCATION:Hafenbar Tegel\, Wilkestraße 1-5\, 13507 Berlin\, Deutschland
X-APPLE-STRUCTURED-LOCATION;VALUE=URI;X-ADDRESS=Wilkestraße 1-5\, 13507 Be
 rlin\, Deutschland;X-APPLE-RADIUS=100;X-TITLE=Hafenbar Tegel:geo:0,0
END:VEVENT
BEGIN:VTIMEZONE
TZID:Europe/Berlin
X-LIC-LOCATION:Europe/Berlin
BEGIN:STANDARD
DTSTART:20241027T020000
TZOFFSETFROM:+0200
TZOFFSETTO:+0100
TZNAME:CET
END:STANDARD
END:VTIMEZONE
END:VCALENDAR