BEGIN:VCALENDAR
VERSION:2.0
PRODID:-//wp-events-plugin.com//7.2.3.1//EN
TZID:Europe/Berlin
X-WR-TIMEZONE:Europe/Berlin
BEGIN:VEVENT
UID:407@altamann.com
DTSTART;TZID=Europe/Berlin:20231029T200000
DTEND;TZID=Europe/Berlin:20231029T220000
DTSTAMP:20230530T205808Z
URL:https://altamann.com/events/ben-becker/
SUMMARY:Ben Becker - ICH\, JUDAS
DESCRIPTION:Ben Becker - ICH\, JUDAS | Der Fall Judas muss neu aufgerollt w
 erden. Eine Geschichte wurde überliefert\, ein Urteil gefällt\, ein Sün
 denbock gebrandmarkt für die Ewigkeit. Doch die Geschichte stimmt so nich
 t\, das Urteil ist falsch. „Was war denn zu verraten“\, fragt Judas in
  seiner Verteidigungsrede\, „ Jesus‘ Aufenthaltsort? Den kannten Tause
 nde. Sein Großes Geheimnis\, dass er Gottes Sohn sei? Das hat er selbst g
 esagt\, vor allen Leuten!“ Und das ist nur der Anfang von vielen Unstimm
 igkeiten einer Geschichte\, die mehr geglaubt als befragt wurde.
ATTACH;FMTTYPE=image/jpeg:https://altamann.com/wp-content/uploads/2023/04/
 Ben-Becker-Ich-Judas.webp
LOCATION:Berliner Dom - Oberpfarr- und Domkirche zu Berlin\, Am Lustgarten\
 , 10178 Berlin\, Deutschland
X-APPLE-STRUCTURED-LOCATION;VALUE=URI;X-ADDRESS=Am Lustgarten\, 10178 Berli
 n\, Deutschland;X-APPLE-RADIUS=100;X-TITLE=Berliner Dom - Oberpfarr- und D
 omkirche zu Berlin:geo:0,0
END:VEVENT
BEGIN:VTIMEZONE
TZID:Europe/Berlin
X-LIC-LOCATION:Europe/Berlin
BEGIN:STANDARD
DTSTART:20231029T020000
TZOFFSETFROM:+0200
TZOFFSETTO:+0100
TZNAME:CET
END:STANDARD
END:VTIMEZONE
END:VCALENDAR