BEGIN:VCALENDAR
VERSION:2.0
PRODID:-//wp-events-plugin.com//7.2.3.1//EN
TZID:Europe/Berlin
X-WR-TIMEZONE:Europe/Berlin
BEGIN:VEVENT
UID:767@altamann.com
DTSTART;TZID=Europe/Berlin:20240111T200000
DTEND;TZID=Europe/Berlin:20240111T223000
DTSTAMP:20240110T142935Z
URL:https://altamann.com/events/berlin-jazz-jam-session-leitung-hendrik-ne
 hls/
SUMMARY:Berlin Jazz Jam Session Leitung Hendrik Nehls
DESCRIPTION:Berlin Jazz Jam Session Leitung Hendrik Nehls - Hendrik Nehls i
 st ein Kontrabassist\, der die Dinge gerne auf den Punkt bringt. Während 
 manche Musiker gerne mit ihrem Musikstudium und all den weltberühmten Kü
 nstlern\, mit denen sie gespielt haben\, prahlen\, geht Hendrik Nehls eine
 n bodenständigeren Weg. Wenn er nach seiner musikalischen Ausbildung gefr
 agt wird\, scherzt er gerne\, dass er alles\, was er weiß\, von Leuten wi
 e Oscar Peterson\, Charlie Parker und Ella Fitzgerald gelernt hat - von de
 nen er die meisten nie persönlich getroffen hat.\n
ATTACH;FMTTYPE=image/jpeg:https://altamann.com/wp-content/uploads/2024/01/
 Berlin-Jazz-Jam-Session.webp
LOCATION:Yorckschlösschen\, Yorckstraße 15\, 10965 Berlin\, Deutschland
X-APPLE-STRUCTURED-LOCATION;VALUE=URI;X-ADDRESS=Yorckstraße 15\, 10965 Ber
 lin\, Deutschland;X-APPLE-RADIUS=100;X-TITLE=Yorckschlösschen:geo:0,0
END:VEVENT
BEGIN:VTIMEZONE
TZID:Europe/Berlin
X-LIC-LOCATION:Europe/Berlin
BEGIN:STANDARD
DTSTART:20231029T020000
TZOFFSETFROM:+0200
TZOFFSETTO:+0100
TZNAME:CET
END:STANDARD
END:VTIMEZONE
END:VCALENDAR