BEGIN:VCALENDAR
VERSION:2.0
PRODID:-//wp-events-plugin.com//7.2.3.1//EN
TZID:Europe/Berlin
X-WR-TIMEZONE:Europe/Berlin
BEGIN:VEVENT
UID:616@altamann.com
DTSTART;TZID=Europe/Berlin:20230916T190000
DTEND;TZID=Europe/Berlin:20230916T213000
DTSTAMP:20230911T180104Z
URL:https://altamann.com/events/bernd-rinser-street-dog-blues-live-im-anno
 64/
SUMMARY:Bernd Rinser - Street Dog Blues | Live im Anno'64
DESCRIPTION:Bernd Rinser\, ein Mann mit rauer Schale und empfindsamen Kern\
 , kann man zwischen Townes van Zandt\, Seasick Steve\, Johnny Cash und Wil
 ly DeVille ansiedeln. Die Frage\, ob er in erster Linie Bluesmann mit eine
 r Vorliebe für Poesie oder eher Singer/Songwriter mit einer Vorliebe für
  Blues ist\, stellt sich dabei nicht wirklich. 
ATTACH;FMTTYPE=image/jpeg:https://altamann.com/wp-content/uploads/2023/09/
 Bernd-Rinser.webp
LOCATION:Anno64 Berlin\, Gneisenaustraße 64\, 10961 Berlin\, Deutschland
X-APPLE-STRUCTURED-LOCATION;VALUE=URI;X-ADDRESS=Gneisenaustraße 64\, 10961
  Berlin\, Deutschland;X-APPLE-RADIUS=100;X-TITLE=Anno64 Berlin:geo:0,0
END:VEVENT
BEGIN:VTIMEZONE
TZID:Europe/Berlin
X-LIC-LOCATION:Europe/Berlin
BEGIN:DAYLIGHT
DTSTART:20230326T030000
TZOFFSETFROM:+0100
TZOFFSETTO:+0200
TZNAME:CEST
END:DAYLIGHT
END:VTIMEZONE
END:VCALENDAR