BEGIN:VCALENDAR
VERSION:2.0
PRODID:-//wp-events-plugin.com//7.2.3.1//EN
TZID:Europe/Berlin
X-WR-TIMEZONE:Europe/Berlin
BEGIN:VEVENT
UID:1417@altamann.com
DTSTART;TZID=Europe/Berlin:20260404T200000
DTEND;TZID=Europe/Berlin:20260404T220000
DTSTAMP:20260316T161417Z
URL:https://altamann.com/events/billy-goodman-soul-of-a-man/
SUMMARY:Billy Goodman | Soul of a Man
DESCRIPTION:Billy Goodman | Soul of a Man - Billy Goodman ist ein einzigart
 iger Singer-Songwriter und Slide-Gitarrist. Er stammt aus den USA\, wo er 
 über ein Jahrzehnt mit den Goodman Brothers featuring Steve Kimock auftra
 t. Zu seinen weiteren Erfolgen zählen sein Slide-Gitarrenspiel und Tourne
 en mit Jorma Kaukonen (Jefferson Airplane\, Electric Hot Tuna)\, Krishna D
 as und Dave Mason (Traffic) sowie seine Tätigkeit als Bassist im Roadteam
  von Grace Slick und Starship.
ATTACH;FMTTYPE=image/jpeg:https://altamann.com/wp-content/uploads/2026/03/
 Billy-Goodman-Ankuendigung-500.webp
LOCATION:Swart | Bier & Weinlokal\, Dreysestraße 17\, 10559 Berlin\, Deuts
 chland
X-APPLE-STRUCTURED-LOCATION;VALUE=URI;X-ADDRESS=Dreysestraße 17\, 10559 Be
 rlin\, Deutschland;X-APPLE-RADIUS=100;X-TITLE=Swart | Bier & Weinlokal:geo
 :0,0
END:VEVENT
BEGIN:VTIMEZONE
TZID:Europe/Berlin
X-LIC-LOCATION:Europe/Berlin
BEGIN:DAYLIGHT
DTSTART:20260329T030000
TZOFFSETFROM:+0100
TZOFFSETTO:+0200
TZNAME:CEST
END:DAYLIGHT
END:VTIMEZONE
END:VCALENDAR