BEGIN:VCALENDAR
VERSION:2.0
PRODID:-//wp-events-plugin.com//7.2.3.1//EN
TZID:Europe/Berlin
X-WR-TIMEZONE:Europe/Berlin
BEGIN:VEVENT
UID:877@altamann.com
DTSTART;TZID=Europe/Berlin:20240326T203000
DTEND;TZID=Europe/Berlin:20240326T230000
DTSTAMP:20240304T180511Z
URL:https://altamann.com/events/bittersweethearts-usa-europa-2024-indie-ro
 ck-aus-los-angeles/
SUMMARY:BitterSweetHearts (USA) - Europa 2024 - Indie-Rock aus Los Angeles
DESCRIPTION:BitterSweetHearts - Nach ihrem erfolgreichen Europa-Debut 2023\
 , kommen die BitterSweetHearts im Rahmen ihres zweiten Europabesuchs\, die
 smal auch zu einem Konzert in die Hafenbar Tegel\, nach Berlin. Angeführt
  von der bezaubernden und melodiösen Zoe Infante begeistern sie mit spiri
 tuellen Rock-Vibes im Tarantino-Stil. Hinzu kommt ein Hauch von Blondie\, 
 während sie in einer Seitengasse hinter CBGBs in Manhattans East Village 
 mit Mazzy Star einen Cocktail mixt\, plus einem Touch Shirley Manson als B
 eilage.
ATTACH;FMTTYPE=image/jpeg:https://altamann.com/wp-content/uploads/2024/03/
 BitterSweetHearts-26.4.2024-Hafenbar-Tegel.webp
LOCATION:Hafenbar Tegel\, Wilkestraße 1-5\, 13507 Berlin\, Deutschland
X-APPLE-STRUCTURED-LOCATION;VALUE=URI;X-ADDRESS=Wilkestraße 1-5\, 13507 Be
 rlin\, Deutschland;X-APPLE-RADIUS=100;X-TITLE=Hafenbar Tegel:geo:0,0
END:VEVENT
BEGIN:VTIMEZONE
TZID:Europe/Berlin
X-LIC-LOCATION:Europe/Berlin
BEGIN:STANDARD
DTSTART:20231029T020000
TZOFFSETFROM:+0200
TZOFFSETTO:+0100
TZNAME:CET
END:STANDARD
END:VTIMEZONE
END:VCALENDAR