BEGIN:VCALENDAR
VERSION:2.0
PRODID:-//wp-events-plugin.com//7.2.3.1//EN
TZID:Europe/Berlin
X-WR-TIMEZONE:Europe/Berlin
BEGIN:VEVENT
UID:873@altamann.com
DTSTART;TZID=Europe/Berlin:20240413T203000
DTEND;TZID=Europe/Berlin:20240413T230000
DTSTAMP:20240220T180024Z
URL:https://altamann.com/events/blackmail-2/
SUMMARY:Blackmail
DESCRIPTION:Blackmail - Die Band um den kleinen\, charismatischen Sänger D
 idi Rönsch: Mit ihrem äußerst tanzbaren Material\, u. a. aus rockig dar
 gebotenen Soul- und R&B Klassikern ("Blues Brothers and more")\, ist sie e
 iner der aufregendsten Club-Acts der Stadt. Live ein echtes Erlebnis!
ATTACH;FMTTYPE=image/jpeg:https://altamann.com/wp-content/uploads/2022/10/
 Blackmail-Band.webp
LOCATION:Hafenbar Tegel\, Wilkestraße 1-5\, 13507 Berlin\, Deutschland
X-APPLE-STRUCTURED-LOCATION;VALUE=URI;X-ADDRESS=Wilkestraße 1-5\, 13507 Be
 rlin\, Deutschland;X-APPLE-RADIUS=100;X-TITLE=Hafenbar Tegel:geo:0,0
END:VEVENT
BEGIN:VTIMEZONE
TZID:Europe/Berlin
X-LIC-LOCATION:Europe/Berlin
BEGIN:DAYLIGHT
DTSTART:20240331T030000
TZOFFSETFROM:+0100
TZOFFSETTO:+0200
TZNAME:CEST
END:DAYLIGHT
END:VTIMEZONE
END:VCALENDAR