BEGIN:VCALENDAR
VERSION:2.0
PRODID:-//wp-events-plugin.com//7.2.3.1//EN
TZID:Europe/Berlin
X-WR-TIMEZONE:Europe/Berlin
BEGIN:VEVENT
UID:710@altamann.com
DTSTART;TZID=Europe/Berlin:20231202T190000
DTEND;TZID=Europe/Berlin:20231202T220000
DTSTAMP:20231128T200003Z
URL:https://altamann.com/events/blind-bankers-in-der-marina-havelbaude/
SUMMARY:Blind Bankers in der Marina Havelbaude
DESCRIPTION:Blind Bankers - Mitmachen ist anjesacht\, einfach mal allet ver
 jessen. Unsere Stärke liegt darin\, unheimlich viel mit dem Publikum zu s
 ingen und zu animieren\, während wir mit unseren Instrumenten zwischen de
 n Leuten rumlatschen\, auf allet Mögliche ruffkrabbeln und Spaß verbreit
 en.\n\n„Diese Jungs wissen\, was das Publikum braucht. Die Blind Bankers
  gehören ganz klar zu der Gruppe der Bands\, die man Live erlebt haben so
 llte\, wenn man auf puren Spaß am Leben steht.“ *ALTAMANN.com 
ATTACH;FMTTYPE=image/jpeg:https://altamann.com/wp-content/uploads/2023/11/
 Blind-Bankers-Havelbaude-2.12.23.webp
LOCATION:Marina Havelbaude\, Goethestraße 41B\, 16540 Hohen Neuendorf\, De
 utschland
X-APPLE-STRUCTURED-LOCATION;VALUE=URI;X-ADDRESS=Goethestraße 41B\, 16540 H
 ohen Neuendorf\, Deutschland;X-APPLE-RADIUS=100;X-TITLE=Marina Havelbaude:
 geo:0,0
END:VEVENT
BEGIN:VTIMEZONE
TZID:Europe/Berlin
X-LIC-LOCATION:Europe/Berlin
BEGIN:STANDARD
DTSTART:20231029T020000
TZOFFSETFROM:+0200
TZOFFSETTO:+0100
TZNAME:CET
END:STANDARD
END:VTIMEZONE
END:VCALENDAR