BEGIN:VCALENDAR
VERSION:2.0
PRODID:-//wp-events-plugin.com//7.2.3.1//EN
TZID:Europe/Berlin
X-WR-TIMEZONE:Europe/Berlin
BEGIN:VEVENT
UID:418@altamann.com
DTSTART;TZID=Europe/Berlin:20230510T200000
DTEND;TZID=Europe/Berlin:20230510T223000
DTSTAMP:20230411T115653Z
URL:https://altamann.com/events/boogie-kathi-und-andreas-bock-bluesn-boogi
 e/
SUMMARY:Boogie Kathi und Andreas Bock Blues'n Boogie
DESCRIPTION:“Ich möchte mit dem Musikstil des Boogie Woogie & Blues bewe
 gen\, erfreuen\, unterhalten und die Menschen zum lachen und tanzen zu bri
 ngen.”\nKatharina Alber spielt auf der ganzen Welt: USA\, GROSSBRITANNIE
 N\, FRANKREICH\, DEUTSCHLAND\, SCHWEIZ\, NORWEGEN\, ÖSTERREICH uvm.
ATTACH;FMTTYPE=image/jpeg:https://altamann.com/wp-content/uploads/2023/04/
 Katharina-Alber-Foto-boogiekathi.com_.webp
LOCATION:Yorckschlösschen\, Yorckstraße 15\, 10965 Berlin\, Deutschland
X-APPLE-STRUCTURED-LOCATION;VALUE=URI;X-ADDRESS=Yorckstraße 15\, 10965 Ber
 lin\, Deutschland;X-APPLE-RADIUS=100;X-TITLE=Yorckschlösschen:geo:0,0
END:VEVENT
BEGIN:VTIMEZONE
TZID:Europe/Berlin
X-LIC-LOCATION:Europe/Berlin
BEGIN:DAYLIGHT
DTSTART:20230326T030000
TZOFFSETFROM:+0100
TZOFFSETTO:+0200
TZNAME:CEST
END:DAYLIGHT
END:VTIMEZONE
END:VCALENDAR