BEGIN:VCALENDAR
VERSION:2.0
PRODID:-//wp-events-plugin.com//7.2.3.1//EN
TZID:Europe/Berlin
X-WR-TIMEZONE:Europe/Berlin
BEGIN:VEVENT
UID:488@altamann.com
DTSTART;TZID=Europe/Berlin:20240928T200000
DTEND;TZID=Europe/Berlin:20240928T230000
DTSTAMP:20240826T191438Z
URL:https://altamann.com/events/captain-crap-and-friends/
SUMMARY:Captain Crap and Friends - 31 Jahre Speiches R&B Kneipe
DESCRIPTION:Captain Crap and Friends - Blues\, Boogie - Eintritt frei - In 
 Blues We Trust! - 31 Jahre Speiches R&B Kneipe - Raumerstr. 39\, 10437 Ber
 lin-Prenzl.Berg tgl. ab 17Uhr 0304445624
ATTACH;FMTTYPE=image/jpeg:https://altamann.com/wp-content/uploads/2023/05/
 Captain-Crap-Prinz-of-Harp.webp
LOCATION:Speiches Rock & Blueskneipe\, Raumerstraße 39\, 10437 Berlin\, De
 utschland
X-APPLE-STRUCTURED-LOCATION;VALUE=URI;X-ADDRESS=Raumerstraße 39\, 10437 Be
 rlin\, Deutschland;X-APPLE-RADIUS=100;X-TITLE=Speiches Rock & Blueskneipe:
 geo:0,0
END:VEVENT
BEGIN:VTIMEZONE
TZID:Europe/Berlin
X-LIC-LOCATION:Europe/Berlin
BEGIN:DAYLIGHT
DTSTART:20240331T030000
TZOFFSETFROM:+0100
TZOFFSETTO:+0200
TZNAME:CEST
END:DAYLIGHT
END:VTIMEZONE
END:VCALENDAR