BEGIN:VCALENDAR
VERSION:2.0
PRODID:-//wp-events-plugin.com//7.2.3.1//EN
TZID:Europe/Berlin
X-WR-TIMEZONE:Europe/Berlin
BEGIN:VEVENT
UID:690@altamann.com
DTSTART;TZID=Europe/Berlin:20231221T200000
DTEND;TZID=Europe/Berlin:20231221T223000
DTSTAMP:20231120T163025Z
URL:https://altamann.com/events/carlos-groove-kitchen-blues-jam-session/
SUMMARY:Carlos Groove Kitchen - Blues Jam Session
DESCRIPTION:Carlos Groove Kitchen - Blues Jam Session - Carlos Dalelane ist
  in Mosambik geboren\, als Jüngster von 15 Kindern und der einzige\, der 
 es wagte\, die Gitarre in die Hand zu nehmen. Mit 6 Jahren trommelte Carlo
 s in der traditionellen Gruppe Timbila am Rande der Hauptstadt Maputo. Dur
 ch einen Zufall in seinem 14. Lebensjahr bekam Carlos die Chance\, auf ein
 em modernen Instrument zu spielen.
ATTACH;FMTTYPE=image/jpeg:https://altamann.com/wp-content/uploads/2022/10/
 Carlos-Dalelane.webp
LOCATION:Yorckschlösschen\, Yorckstraße 15\, 10965 Berlin\, Deutschland
X-APPLE-STRUCTURED-LOCATION;VALUE=URI;X-ADDRESS=Yorckstraße 15\, 10965 Ber
 lin\, Deutschland;X-APPLE-RADIUS=100;X-TITLE=Yorckschlösschen:geo:0,0
END:VEVENT
BEGIN:VTIMEZONE
TZID:Europe/Berlin
X-LIC-LOCATION:Europe/Berlin
BEGIN:STANDARD
DTSTART:20231029T020000
TZOFFSETFROM:+0200
TZOFFSETTO:+0100
TZNAME:CET
END:STANDARD
END:VTIMEZONE
END:VCALENDAR