BEGIN:VCALENDAR
VERSION:2.0
PRODID:-//wp-events-plugin.com//7.2.3.1//EN
TZID:Europe/Berlin
X-WR-TIMEZONE:Europe/Berlin
BEGIN:VEVENT
UID:260@altamann.com
DTSTART;TZID=Europe/Berlin:20231231T200000
DTEND;TZID=Europe/Berlin:20240101T040000
DTSTAMP:20231121T191537Z
URL:https://altamann.com/events/chameleon-walk-silvestersause-bei-speiche/
SUMMARY:Chameleon Walk - Eintritt Frei ! | Silvestersause bei Speiche
DESCRIPTION:Chameleon Walk - Die kleine Band "Chameleon Walk" bringt mit Ge
 sang und Gitarre (Axel Heyder) plus Saxophon (Babette Lauenstein) - reduzi
 ert auf das musikalisch Wesentliche - sowohl die englischsprachigen Klassi
 ker der Rock- und Popgeschichte als auch aktuelle Songs in minimalistische
 r Form zu Gehör. Und das tun sie mit geballter Spielfreude. 
ATTACH;FMTTYPE=image/jpeg:https://altamann.com/wp-content/uploads/2023/01/
 Chameleon-Walk.webp
LOCATION:Speiches Rock & Blueskneipe\, Raumerstraße 39\, 10437 Berlin\, De
 utschland
X-APPLE-STRUCTURED-LOCATION;VALUE=URI;X-ADDRESS=Raumerstraße 39\, 10437 Be
 rlin\, Deutschland;X-APPLE-RADIUS=100;X-TITLE=Speiches Rock & Blueskneipe:
 geo:0,0
END:VEVENT
BEGIN:VTIMEZONE
TZID:Europe/Berlin
X-LIC-LOCATION:Europe/Berlin
BEGIN:STANDARD
DTSTART:20231029T020000
TZOFFSETFROM:+0200
TZOFFSETTO:+0100
TZNAME:CET
END:STANDARD
END:VTIMEZONE
END:VCALENDAR