BEGIN:VCALENDAR
VERSION:2.0
PRODID:-//wp-events-plugin.com//7.2.3.1//EN
TZID:Europe/Berlin
X-WR-TIMEZONE:Europe/Berlin
BEGIN:VEVENT
UID:708@altamann.com
DTSTART;TZID=Europe/Berlin:20231202T190000
DTEND;TZID=Europe/Berlin:20231202T230000
DTSTAMP:20231128T194318Z
URL:https://altamann.com/events/christmas-bash-in-der-klinke/
SUMMARY:Christmas Bash in der Klinke
DESCRIPTION:Christmas Bash in der Klinke - Dark Metal Records presents\n\n\
 \m/ CHRISTMAS BASH \\m/\n\nDas Jahr neigt sich dem Ende und Krampus lädt 
 zum Fest.
ATTACH;FMTTYPE=image/jpeg:https://altamann.com/wp-content/uploads/2023/11/
 Christmas-Bash-Klinke.webp
LOCATION:Jugendkulturzentrum Die Klinke\, Bruno-Baum-Straße 56\, 12685 Ber
 lin\, Deutschland
X-APPLE-STRUCTURED-LOCATION;VALUE=URI;X-ADDRESS=Bruno-Baum-Straße 56\, 126
 85 Berlin\, Deutschland;X-APPLE-RADIUS=100;X-TITLE=Jugendkulturzentrum Die
  Klinke:geo:0,0
END:VEVENT
BEGIN:VTIMEZONE
TZID:Europe/Berlin
X-LIC-LOCATION:Europe/Berlin
BEGIN:STANDARD
DTSTART:20231029T020000
TZOFFSETFROM:+0200
TZOFFSETTO:+0100
TZNAME:CET
END:STANDARD
END:VTIMEZONE
END:VCALENDAR