BEGIN:VCALENDAR
VERSION:2.0
PRODID:-//wp-events-plugin.com//7.2.3.1//EN
TZID:Europe/Berlin
X-WR-TIMEZONE:Europe/Berlin
BEGIN:VEVENT
UID:428@altamann.com
DTSTART;TZID=Europe/Berlin:20230519T180000
DTEND;TZID=Europe/Berlin:20230519T200000
DTSTAMP:20230411T205049Z
URL:https://altamann.com/events/da-bin-ich-oeffne-zoegernd-deine-tuer-trot
 ter-singt-erich-muehsam-evangelische-kirche-bad-schmiedeberg/
SUMMARY:„Da bin ich\, öffne zögernd Deine Tür“ – Trotter singt Eri
 ch Mühsam - Evangelische Kirche Bad Schmiedeberg
DESCRIPTION:Trotter singt Erich Mühsam - Warum ein musikalisches Mühsam-P
 rojekt? Erich Mühsam\, getrieben von unstillbarem Hass auf Autoritäten u
 nd Zwang\, hat in Wort und Tat für die Befreiung der Menschheit von Unter
 drückung\, Gesetz und Staat gelebt. Besonders verbunden fühlte er sich m
 it den Außenseitern der Gesellschaft\, den Ausgestoßenen und Underdogs.
ATTACH;FMTTYPE=image/jpeg:https://altamann.com/wp-content/uploads/2023/01/
 Ralf-Trotter-Schmidt-singt-Erich-Muehsam-e1673189386655.webp
LOCATION:Evangelische Kirche Bad Schmiedeberg - Stadtkirche\, Kirchstr. 4 -
  5\, 06905 Bad Schmiedeberg\, Deutschland
X-APPLE-STRUCTURED-LOCATION;VALUE=URI;X-ADDRESS=Kirchstr. 4 - 5\, 06905 Bad
  Schmiedeberg\, Deutschland;X-APPLE-RADIUS=100;X-TITLE=Evangelische Kirche
  Bad Schmiedeberg - Stadtkirche:geo:0,0
END:VEVENT
BEGIN:VTIMEZONE
TZID:Europe/Berlin
X-LIC-LOCATION:Europe/Berlin
BEGIN:DAYLIGHT
DTSTART:20230326T030000
TZOFFSETFROM:+0100
TZOFFSETTO:+0200
TZNAME:CEST
END:DAYLIGHT
END:VTIMEZONE
END:VCALENDAR