BEGIN:VCALENDAR
VERSION:2.0
PRODID:-//wp-events-plugin.com//7.2.3.1//EN
TZID:Europe/Berlin
X-WR-TIMEZONE:Europe/Berlin
BEGIN:VEVENT
UID:363@altamann.com
DTSTART;TZID=Europe/Berlin:20230502T180000
DTEND;TZID=Europe/Berlin:20230502T200000
DTSTAMP:20230414T225959Z
URL:https://altamann.com/events/daria-kriegs-singer-songwriterin-aus-nordr
 hein-westfalen-rockradio-de-uebertraegt-live/
SUMMARY:Daria Kriegs | Singer Songwriterin aus Nordrhein-Westfalen | Rockra
 dio.de überträgt live
DESCRIPTION:Daria Kriegs - Musik hat Daria Kriegs von Kin­des­bei­nen an
  im Blut. Und Spra­che im Kopf. In den sech­zi­ger Jah­ren in Ham­bur
 g auf­ge­wach­sen\, wird sie mit 15 Jah­ren das erste Mal Lead­sän­
 ge­rin einer Band. Ver­schie­de­ne Rock- und Blues-Cover-For­ma­tio
 ­nen fol­gen\, sie schreibt mehr und mehr ei­ge­ne Songs und tritt bal
 d al­lein oder im Duo in Clubs und Knei­pen auf. Die Gi­tar­re wird ih
 r ste­ti­ger Beglei­ter und ihr Haup­t­in­stru­ment beim Kom­po­n
 ie­ren. Musik und Text ent­ste­hen meist un­ab­hän­gig\, und fin­d
 en erst spä­ter in einem\, wie Daria meint\, „ mys­ti­schen“  Sch
 ritt zu­ein­an­der.
ATTACH;FMTTYPE=image/jpeg:https://altamann.com/wp-content/uploads/2023/02/
 Daria-Kriegs-Foto-daria-musik.de_.webp
LOCATION:Speiches Rock & Blueskneipe\, Raumerstraße 39\, 10437 Berlin\, De
 utschland
X-APPLE-STRUCTURED-LOCATION;VALUE=URI;X-ADDRESS=Raumerstraße 39\, 10437 Be
 rlin\, Deutschland;X-APPLE-RADIUS=100;X-TITLE=Speiches Rock & Blueskneipe:
 geo:0,0
END:VEVENT
BEGIN:VTIMEZONE
TZID:Europe/Berlin
X-LIC-LOCATION:Europe/Berlin
BEGIN:DAYLIGHT
DTSTART:20230326T030000
TZOFFSETFROM:+0100
TZOFFSETTO:+0200
TZNAME:CEST
END:DAYLIGHT
END:VTIMEZONE
END:VCALENDAR