BEGIN:VCALENDAR
VERSION:2.0
PRODID:-//wp-events-plugin.com//7.2.3.1//EN
TZID:Europe/Berlin
X-WR-TIMEZONE:Europe/Berlin
BEGIN:VEVENT
UID:707@altamann.com
DTSTART;TZID=Europe/Berlin:20231201T190000
DTEND;TZID=Europe/Berlin:20231201T220000
DTSTAMP:20231128T202155Z
URL:https://altamann.com/events/denice-brooks-double-concert-im-zig-zag-ja
 zzclub/
SUMMARY:DENICE BROOKS | Double Concert im Zig Zag Jazzclub
DESCRIPTION:Denice Brooks ist eine der erstaunlichsten amerikanischen Säng
 erinnen\, die derzeit in Europa leben. Ihre unglaubliche stimmliche Vielse
 itigkeit hat sie zu einer der meistbeschäftigten Künstlerinnen ihrer Zun
 ft gemacht. Dass sie die einzige Sängerin ist\, der Prince seinen Segen g
 ab eine Coverversion von Purple Rain aufzunehmen spricht Bände. Sie tourt
 e durch Deutschland\, das restliche Europa\, den nahen Osten und Südafrik
 a\, wo sie für Nelson Mandela sang.
ATTACH;FMTTYPE=image/jpeg:https://altamann.com/wp-content/uploads/2023/11/
 Denice-Brooks.webp
LOCATION:Zig Zag Jazz Club\, Hauptstraße 89\, 12159 Berlin\, Deutschland
X-APPLE-STRUCTURED-LOCATION;VALUE=URI;X-ADDRESS=Hauptstraße 89\, 12159 Ber
 lin\, Deutschland;X-APPLE-RADIUS=100;X-TITLE=Zig Zag Jazz Club:geo:0,0
END:VEVENT
BEGIN:VTIMEZONE
TZID:Europe/Berlin
X-LIC-LOCATION:Europe/Berlin
BEGIN:STANDARD
DTSTART:20231029T020000
TZOFFSETFROM:+0200
TZOFFSETTO:+0100
TZNAME:CET
END:STANDARD
END:VTIMEZONE
END:VCALENDAR