BEGIN:VCALENDAR
VERSION:2.0
PRODID:-//wp-events-plugin.com//7.2.3.1//EN
TZID:Europe/Berlin
X-WR-TIMEZONE:Europe/Berlin
BEGIN:VEVENT
UID:416@altamann.com
DTSTART;TZID=Europe/Berlin:20230709T190000
DTEND;TZID=Europe/Berlin:20230709T220000
DTSTAMP:20230530T205102Z
URL:https://altamann.com/events/depeche-mode-memento-mori/
SUMMARY:Depeche Mode - Memento Mori
DESCRIPTION:Depeche Mode - Memento Mori - Depeche Mode haben ihre ersten Li
 ve-Shows seit fünf Jahren angekündigt. Die „Memento Mori“ Welttour\,
  die von dem gleichnamigen neuen Album begleitet wird\, startet Ende März
  und beinhaltet auch acht Auftritte in Deutschland\, der Schweiz und Öste
 rreich. Vom 26. Mai bis 21. Juli stehen Open Air-Konzerte in Leipzig\, Dü
 sseldorf\, Bern\, München\, Frankfurt\, Berlin und Klagenfurt auf dem Tou
 rneeplan.
ATTACH;FMTTYPE=image/jpeg:https://altamann.com/wp-content/uploads/2023/04/
 Depeche-Mode.webp
LOCATION:Olympiastadion Berlin\, Olympischer Platz 3\, 14053 Berlin\, Deuts
 chland
X-APPLE-STRUCTURED-LOCATION;VALUE=URI;X-ADDRESS=Olympischer Platz 3\, 14053
  Berlin\, Deutschland;X-APPLE-RADIUS=100;X-TITLE=Olympiastadion Berlin:geo
 :0,0
END:VEVENT
BEGIN:VTIMEZONE
TZID:Europe/Berlin
X-LIC-LOCATION:Europe/Berlin
BEGIN:DAYLIGHT
DTSTART:20230326T030000
TZOFFSETFROM:+0100
TZOFFSETTO:+0200
TZNAME:CEST
END:DAYLIGHT
END:VTIMEZONE
END:VCALENDAR