BEGIN:VCALENDAR
VERSION:2.0
PRODID:-//wp-events-plugin.com//7.2.3.1//EN
TZID:Europe/Berlin
X-WR-TIMEZONE:Europe/Berlin
BEGIN:VEVENT
UID:1441@altamann.com
DTSTART;TZID=Europe/Berlin:20261021T180000
DTEND;TZID=Europe/Berlin:20261021T220000
DTSTAMP:20260420T103338Z
URL:https://altamann.com/events/die-elektrische-maennerwelt-spielt-jimi-he
 ndrix-mit-deutschen-texten-2/
SUMMARY:DIE ELEKTRISCHE MÄNNERWELT spielt ´Jimi Hendrix´ mit deutschen T
 exten...
DESCRIPTION:Die Elektrische Männerwelt ist nicht einfach nur eine bloße C
 over-Band: Kraftvoll und mit einer Lust aufs Improvisieren vorgetragen wie
  es Mr. Hendrix sicher gefallen hätte\, machte „Die Elektrische Männer
 welt“ aus jedem Stück einen eigenen\, frischen und trotzdem das Vermäc
 htnis des Meisters respektierenden Song. Der ALTAMANN hat keinen Zweifel\,
  „The Jimi Hendrix Experience“ hätten das Projekt ohne zu zögern abg
 enickt. Dieses Konzert lässt den ALTAMANN zu dem Ergebnis kommen\, dass e
 r „Die Elektrische Männerwelt“ nicht einfach nur als bloße Cover-ban
 d bezeichnen möchte\, die ihre Sache gut gemacht hat. Denn diese Band hat
  einen eigenen Charakter entwickelt\, der über das einfache\, wenn auch v
 irtuose Nachspielen der Hits einer Ikone hinaus geht. „Die Elektrische M
 ännerwelt“ ist ein echtes\, eigenes Musik-Projekt\, das man jedem Freun
 d des Blues\, bzw. Rhythm & Blues mit psychedelischem Einschlag nur empfeh
 len kann.
ATTACH;FMTTYPE=image/jpeg:https://altamann.com/wp-content/uploads/2026/04/
 Plakat-Club-23-2-500.webp
LOCATION:Club 23 / im Soda Club Berlin\, Schönhauser Allee 36\, 10435 Berl
 in\, Deutschland
X-APPLE-STRUCTURED-LOCATION;VALUE=URI;X-ADDRESS=Schönhauser Allee 36\, 104
 35 Berlin\, Deutschland;X-APPLE-RADIUS=100;X-TITLE=Club 23 / im Soda Club 
 Berlin:geo:0,0
END:VEVENT
BEGIN:VTIMEZONE
TZID:Europe/Berlin
X-LIC-LOCATION:Europe/Berlin
BEGIN:DAYLIGHT
DTSTART:20260329T030000
TZOFFSETFROM:+0100
TZOFFSETTO:+0200
TZNAME:CEST
END:DAYLIGHT
END:VTIMEZONE
END:VCALENDAR