BEGIN:VCALENDAR
VERSION:2.0
PRODID:-//wp-events-plugin.com//7.2.3.1//EN
TZID:Europe/Berlin
X-WR-TIMEZONE:Europe/Berlin
BEGIN:VEVENT
UID:1442@altamann.com
DTSTART;TZID=Europe/Berlin:20261031T200000
DTEND;TZID=Europe/Berlin:20261031T220000
DTSTAMP:20260420T104150Z
URL:https://altamann.com/events/die-elektrische-maennerwelt-spielt-jimi-he
 ndrix-mit-deutschen-texten-3/
SUMMARY:DIE ELEKTRISCHE MÄNNERWELT spielt ´Jimi Hendrix´ mit deutschen T
 exten...
DESCRIPTION:Die Elektrische Männerwelt ist nicht einfach nur eine bloße C
 over-Band: Kraftvoll und mit einer Lust aufs Improvisieren vorgetragen wie
  es Mr. Hendrix sicher gefallen hätte\, machte „Die Elektrische Männer
 welt“ aus jedem Stück einen eigenen\, frischen und trotzdem das Vermäc
 htnis des Meisters respektierenden Song. Der ALTAMANN hat keinen Zweifel\,
  „The Jimi Hendrix Experience“ hätten das Projekt ohne zu zögern abg
 enickt. Dieses Konzert lässt den ALTAMANN zu dem Ergebnis kommen\, dass e
 r „Die Elektrische Männerwelt“ nicht einfach nur als bloße Cover-ban
 d bezeichnen möchte\, die ihre Sache gut gemacht hat. Denn diese Band hat
  einen eigenen Charakter entwickelt\, der über das einfache\, wenn auch v
 irtuose Nachspielen der Hits einer Ikone hinaus geht. „Die Elektrische M
 ännerwelt“ ist ein echtes\, eigenes Musik-Projekt\, das man jedem Freun
 d des Blues\, bzw. Rhythm & Blues mit psychedelischem Einschlag nur empfeh
 len kann.
ATTACH;FMTTYPE=image/jpeg:https://altamann.com/wp-content/uploads/2026/04/
 Zum-goldenen-Handwerk-2-500.webp
LOCATION:Zum Goldenen Handwerk\, Obentrautstraße 36\, 10963 Berlin\, Deuts
 chland
X-APPLE-STRUCTURED-LOCATION;VALUE=URI;X-ADDRESS=Obentrautstraße 36\, 10963
  Berlin\, Deutschland;X-APPLE-RADIUS=100;X-TITLE=Zum Goldenen Handwerk:geo
 :0,0
END:VEVENT
BEGIN:VTIMEZONE
TZID:Europe/Berlin
X-LIC-LOCATION:Europe/Berlin
BEGIN:STANDARD
DTSTART:20261025T020000
TZOFFSETFROM:+0200
TZOFFSETTO:+0100
TZNAME:CET
END:STANDARD
END:VTIMEZONE
END:VCALENDAR