BEGIN:VCALENDAR
VERSION:2.0
PRODID:-//wp-events-plugin.com//7.2.3.1//EN
TZID:Europe/Berlin
X-WR-TIMEZONE:Europe/Berlin
BEGIN:VEVENT
UID:410@altamann.com
DTSTART;TZID=Europe/Berlin:20230619T200000
DTEND;TZID=Europe/Berlin:20230619T220000
DTSTAMP:20230410T162254Z
URL:https://altamann.com/events/die-feisten/
SUMMARY:Die Feisten - Das Feinste der feisten
DESCRIPTION:„Spielt doch mal Dies\, spielt doch mal Das. Was ist mit “F
 lamingo Dolores”\, singt ihr auch das Gänseblümchen”? Und „Du will
 st immer nur f…?“ Die Antwort lautet: „Ja\, machen wir!“ Denn die 
 beiden Sänger und Multiinstrumentalisten C. und Rainer packen das Beste i
 hres umfangreichen Repertoires in ihre persönlichen TOP20.
ATTACH;FMTTYPE=image/jpeg:https://altamann.com/wp-content/uploads/2023/04/
 Die-Feisten.webp
LOCATION:Die Wühlmäuse\, Pommernallee 2-4\, 14052 Berlin\, Deutschland
X-APPLE-STRUCTURED-LOCATION;VALUE=URI;X-ADDRESS=Pommernallee 2-4\, 14052 Be
 rlin\, Deutschland;X-APPLE-RADIUS=100;X-TITLE=Die Wühlmäuse:geo:0,0
END:VEVENT
BEGIN:VTIMEZONE
TZID:Europe/Berlin
X-LIC-LOCATION:Europe/Berlin
BEGIN:DAYLIGHT
DTSTART:20230326T030000
TZOFFSETFROM:+0100
TZOFFSETTO:+0200
TZNAME:CEST
END:DAYLIGHT
END:VTIMEZONE
END:VCALENDAR