BEGIN:VCALENDAR
VERSION:2.0
PRODID:-//wp-events-plugin.com//7.2.3.1//EN
TZID:Europe/Berlin
X-WR-TIMEZONE:Europe/Berlin
BEGIN:VEVENT
UID:1443@altamann.com
DTSTART;TZID=Europe/Berlin:20260424T170000
DTEND;TZID=Europe/Berlin:20260424T200000
DTSTAMP:20260423T135703Z
URL:https://altamann.com/events/dj-zappo-live-in-der-guitar-lounge-berlin/
SUMMARY:DJ Zappo live in der Guitar Lounge Berlin
DESCRIPTION:DJ Zappo live in der Guitar Lounge Berlin - Am Freitag den 24.0
 4.2026 verzaubert euch der DJ Zappo mit seinem Spandau-Listening!
ATTACH;FMTTYPE=image/jpeg:https://altamann.com/wp-content/uploads/2026/04/
 DJ-Zappo-24.4.2026-Guitar-Lounge-Berlin.webp
LOCATION:Guitar Lounge Berlin - Spandau\, Heerstraße 223\, 13595 Berlin\, 
 Deutschland
X-APPLE-STRUCTURED-LOCATION;VALUE=URI;X-ADDRESS=Heerstraße 223\, 13595 Ber
 lin\, Deutschland;X-APPLE-RADIUS=100;X-TITLE=Guitar Lounge Berlin - Spanda
 u:geo:0,0
END:VEVENT
BEGIN:VTIMEZONE
TZID:Europe/Berlin
X-LIC-LOCATION:Europe/Berlin
BEGIN:DAYLIGHT
DTSTART:20260329T030000
TZOFFSETFROM:+0100
TZOFFSETTO:+0200
TZNAME:CEST
END:DAYLIGHT
END:VTIMEZONE
END:VCALENDAR