BEGIN:VCALENDAR
VERSION:2.0
PRODID:-//wp-events-plugin.com//7.2.3.1//EN
TZID:Europe/Berlin
X-WR-TIMEZONE:Europe/Berlin
BEGIN:VEVENT
UID:816@altamann.com
DTSTART;TZID=Europe/Berlin:20240418T200000
DTEND;TZID=Europe/Berlin:20240418T220000
DTSTAMP:20240111T155746Z
URL:https://altamann.com/events/doc-b-band-rock-pop-der-70er-90er/
SUMMARY:Doc B Band - Rock & Pop der 70er-90er
DESCRIPTION:Doc B Band - Die Band ist seit über 15 Jahren in Musik-Clubs u
 nd auf privaten Feiern unterwegs. Erfahrene Musiker spielen die zeitlosen 
 und unvergessenen\nKlassiker der Rock- und Pop-Geschichte.
ATTACH;FMTTYPE=image/jpeg:https://altamann.com/wp-content/uploads/2023/05/
 Doc-B-Band.webp
LOCATION:ART Stalker\, Kaiser-Friedrich-Straße 67\, 10627 Berlin\, Deutsch
 land
X-APPLE-STRUCTURED-LOCATION;VALUE=URI;X-ADDRESS=Kaiser-Friedrich-Straße 67
 \, 10627 Berlin\, Deutschland;X-APPLE-RADIUS=100;X-TITLE=ART Stalker:geo:0
 ,0
END:VEVENT
BEGIN:VTIMEZONE
TZID:Europe/Berlin
X-LIC-LOCATION:Europe/Berlin
BEGIN:DAYLIGHT
DTSTART:20240331T030000
TZOFFSETFROM:+0100
TZOFFSETTO:+0200
TZNAME:CEST
END:DAYLIGHT
END:VTIMEZONE
END:VCALENDAR