BEGIN:VCALENDAR
VERSION:2.0
PRODID:-//wp-events-plugin.com//7.2.3.1//EN
TZID:Europe/Berlin
X-WR-TIMEZONE:Europe/Berlin
BEGIN:VEVENT
UID:490@altamann.com
DTSTART;TZID=Europe/Berlin:20240503T203000
DTEND;TZID=Europe/Berlin:20240503T230000
DTSTAMP:20240220T195622Z
URL:https://altamann.com/events/doc-b-band/
SUMMARY:Doc B Band
DESCRIPTION:Doc B Band - Rock & Pop der 70er-90er - Die Band ist seit über
  15 Jahren in Musik-Clubs und auf privaten Feiern unterwegs. Erfahrene Mus
 iker spielen die zeitlosen und unvergessenen\nKlassiker der Rock- und Pop-
 Geschichte.
ATTACH;FMTTYPE=image/jpeg:https://altamann.com/wp-content/uploads/2023/05/
 Doc-B-Band.webp
LOCATION:Hafenbar Tegel\, Wilkestraße 1-5\, 13507 Berlin\, Deutschland
X-APPLE-STRUCTURED-LOCATION;VALUE=URI;X-ADDRESS=Wilkestraße 1-5\, 13507 Be
 rlin\, Deutschland;X-APPLE-RADIUS=100;X-TITLE=Hafenbar Tegel:geo:0,0
END:VEVENT
BEGIN:VTIMEZONE
TZID:Europe/Berlin
X-LIC-LOCATION:Europe/Berlin
BEGIN:DAYLIGHT
DTSTART:20240331T030000
TZOFFSETFROM:+0100
TZOFFSETTO:+0200
TZNAME:CEST
END:DAYLIGHT
END:VTIMEZONE
END:VCALENDAR