BEGIN:VCALENDAR
VERSION:2.0
PRODID:-//wp-events-plugin.com//7.2.3.1//EN
TZID:Europe/Berlin
X-WR-TIMEZONE:Europe/Berlin
BEGIN:VEVENT
UID:1054@altamann.com
DTSTART;TZID=Europe/Berlin:20241005T203000
DTEND;TZID=Europe/Berlin:20241005T230000
DTSTAMP:20241005T102512Z
URL:https://altamann.com/events/dollhouse-coverrock-der-der-letzten-jahrze
 hnte/
SUMMARY:DOLLHOUSE +++ ABGESAGT! +++
DESCRIPTION:Leider mussten Dollhouse ihr heutiges Konzert aus gesundheitlic
 hen Gründen absagen (gute Besserung ). Daher bleibt die Hafenbar Tegel he
 ute geschlossen. Wir sehen uns morgen zu Marvin Scondo feat. Ben Forrester
  Music wieder.
ATTACH;FMTTYPE=image/jpeg:https://altamann.com/wp-content/uploads/2024/07/
 Dollhouse-Band-Berlin-Abgesagt.webp
LOCATION:Hafenbar Tegel\, Wilkestraße 1-5\, 13507 Berlin\, Deutschland
X-APPLE-STRUCTURED-LOCATION;VALUE=URI;X-ADDRESS=Wilkestraße 1-5\, 13507 Be
 rlin\, Deutschland;X-APPLE-RADIUS=100;X-TITLE=Hafenbar Tegel:geo:0,0
END:VEVENT
BEGIN:VTIMEZONE
TZID:Europe/Berlin
X-LIC-LOCATION:Europe/Berlin
BEGIN:DAYLIGHT
DTSTART:20240331T030000
TZOFFSETFROM:+0100
TZOFFSETTO:+0200
TZNAME:CEST
END:DAYLIGHT
END:VTIMEZONE
END:VCALENDAR