BEGIN:VCALENDAR
VERSION:2.0
PRODID:-//wp-events-plugin.com//7.2.3.1//EN
TZID:Europe/Berlin
X-WR-TIMEZONE:Europe/Berlin
BEGIN:VEVENT
UID:139@altamann.com
DTSTART;TZID=Europe/Berlin:20230420T200000
DTEND;TZID=Europe/Berlin:20230420T220000
DTSTAMP:20230414T220747Z
URL:https://altamann.com/events/ellen-esser-band/
SUMMARY:Ellen Esser & Band
DESCRIPTION:Ellen Esser & Band - Ellen Esser singt ihr gut gewürztes Berli
 n Programm! Die Sängerin und ehemalige Schauspielerin Ellen Esser und ihr
 e Band spielen die bekannten Berlinsongs von den 50er Jahren bis heute.
ATTACH;FMTTYPE=image/jpeg:https://altamann.com/wp-content/uploads/2022/11/
 Ellen-Esser-Band.webp
LOCATION:ART Stalker\, Kaiser-Friedrich-Straße 67\, 10627 Berlin\, Deutsch
 land
X-APPLE-STRUCTURED-LOCATION;VALUE=URI;X-ADDRESS=Kaiser-Friedrich-Straße 67
 \, 10627 Berlin\, Deutschland;X-APPLE-RADIUS=100;X-TITLE=ART Stalker:geo:0
 ,0
END:VEVENT
BEGIN:VTIMEZONE
TZID:Europe/Berlin
X-LIC-LOCATION:Europe/Berlin
BEGIN:DAYLIGHT
DTSTART:20230326T030000
TZOFFSETFROM:+0100
TZOFFSETTO:+0200
TZNAME:CEST
END:DAYLIGHT
END:VTIMEZONE
END:VCALENDAR