BEGIN:VCALENDAR
VERSION:2.0
PRODID:-//wp-events-plugin.com//7.2.3.1//EN
TZID:Europe/Berlin
X-WR-TIMEZONE:Europe/Berlin
BEGIN:VEVENT
UID:489@altamann.com
DTSTART;TZID=Europe/Berlin:20230525T203000
DTEND;TZID=Europe/Berlin:20230525T230000
DTSTAMP:20230523T155858Z
URL:https://altamann.com/events/fabrice-mathis/
SUMMARY:Fabrice & Mathis
DESCRIPTION:Fabrice & Mathis - Pop\, Rock\, Singer- Songwriter
ATTACH;FMTTYPE=image/jpeg:https://altamann.com/wp-content/uploads/2023/05/
 Fabrice-Mathis.webp
LOCATION:Hafenbar Tegel\, Wilkestraße 1-5\, 13507 Berlin\, Deutschland
X-APPLE-STRUCTURED-LOCATION;VALUE=URI;X-ADDRESS=Wilkestraße 1-5\, 13507 Be
 rlin\, Deutschland;X-APPLE-RADIUS=100;X-TITLE=Hafenbar Tegel:geo:0,0
END:VEVENT
BEGIN:VTIMEZONE
TZID:Europe/Berlin
X-LIC-LOCATION:Europe/Berlin
BEGIN:DAYLIGHT
DTSTART:20230326T030000
TZOFFSETFROM:+0100
TZOFFSETTO:+0200
TZNAME:CEST
END:DAYLIGHT
END:VTIMEZONE
END:VCALENDAR