BEGIN:VCALENDAR
VERSION:2.0
PRODID:-//wp-events-plugin.com//7.2.3.1//EN
TZID:Europe/Berlin
X-WR-TIMEZONE:Europe/Berlin
BEGIN:VEVENT
UID:657@altamann.com
DTSTART;TZID=Europe/Berlin:20231026T203000
DTEND;TZID=Europe/Berlin:20231026T230000
DTSTAMP:20231025T113828Z
URL:https://altamann.com/events/fabrice-und-mathis/
SUMMARY:Fabrice und Mathis
DESCRIPTION:Fabrice und Mathis - Wir freuen uns auf unser "Family-Concert"!
  Als special Guest ist auch Jürgen Dehmel am Bass dabei!!!
ATTACH;FMTTYPE=image/jpeg:https://altamann.com/wp-content/uploads/2023/10/
 Fabrice-und-Mathis-Hafenbar-Tegel-26.10.2023.webp
LOCATION:Hafenbar Tegel\, Wilkestraße 1-5\, 13507 Berlin\, Deutschland
X-APPLE-STRUCTURED-LOCATION;VALUE=URI;X-ADDRESS=Wilkestraße 1-5\, 13507 Be
 rlin\, Deutschland;X-APPLE-RADIUS=100;X-TITLE=Hafenbar Tegel:geo:0,0
END:VEVENT
BEGIN:VTIMEZONE
TZID:Europe/Berlin
X-LIC-LOCATION:Europe/Berlin
BEGIN:DAYLIGHT
DTSTART:20230326T030000
TZOFFSETFROM:+0100
TZOFFSETTO:+0200
TZNAME:CEST
END:DAYLIGHT
END:VTIMEZONE
END:VCALENDAR