BEGIN:VCALENDAR
VERSION:2.0
PRODID:-//wp-events-plugin.com//7.2.3.1//EN
TZID:Europe/Berlin
X-WR-TIMEZONE:Europe/Berlin
BEGIN:VEVENT
UID:634@altamann.com
DTSTART;TZID=Europe/Berlin:20240309T203000
DTEND;TZID=Europe/Berlin:20240309T233000
DTSTAMP:20240205T114503Z
URL:https://altamann.com/events/get-stoned-die-rolling-stones-show/
SUMMARY:Get Stoned – die rolling stones show
DESCRIPTION:Get Stoned - Wer Konzerte von GET STONED in kleinen überfüllt
 en Clubs oder auf großen Bühnen gemeinsam mit dem Bläsersatz THE STICKY
  TONES erlebt hat\, kann bestätigen\, dass es sich bei dieser Band um wei
 t mehr als nur eine Rolling Stones Coverband handelt. Das mag vor allem da
 ran liegen\, dass die Musik der Rolling Stones nicht nur gespielt sondern 
 als energiegeladenes Live-Erlebnis zelebriert wird. Immer im Mittelpunkt s
 teht dabei der authentische Sound\, den die Stones kreiert haben und der s
 ie als Liveband unsterblich macht.
ATTACH;FMTTYPE=image/jpeg:https://altamann.com/wp-content/uploads/2023/10/
 Get-Stoned.webp
LOCATION:Hafenbar Tegel\, Wilkestraße 1-5\, 13507 Berlin\, Deutschland
X-APPLE-STRUCTURED-LOCATION;VALUE=URI;X-ADDRESS=Wilkestraße 1-5\, 13507 Be
 rlin\, Deutschland;X-APPLE-RADIUS=100;X-TITLE=Hafenbar Tegel:geo:0,0
END:VEVENT
BEGIN:VTIMEZONE
TZID:Europe/Berlin
X-LIC-LOCATION:Europe/Berlin
BEGIN:STANDARD
DTSTART:20231029T020000
TZOFFSETFROM:+0200
TZOFFSETTO:+0100
TZNAME:CET
END:STANDARD
END:VTIMEZONE
END:VCALENDAR