BEGIN:VCALENDAR
VERSION:2.0
PRODID:-//wp-events-plugin.com//7.2.3.1//EN
TZID:Europe/Berlin
X-WR-TIMEZONE:Europe/Berlin
BEGIN:VEVENT
UID:628@altamann.com
DTSTART;TZID=Europe/Berlin:20231210T203000
DTEND;TZID=Europe/Berlin:20231210T223000
DTSTAMP:20231004T091839Z
URL:https://altamann.com/events/hanno-bruhn-gang-blues-mit-schnauze-im-gep
 aeck-2/
SUMMARY:Hanno-Bruhn-Gang | Blues mit Schnauze im Gepäck
DESCRIPTION:Hanno Bruhn Gang - In Malente fing der Blues an … Die ersten 
 Textzeilen und auch eigene Melodien entwickelten sich bereits in jungen Ja
 hren. Probiert wurden die Songs bei Auftritten mit der Schülerband MSG. M
 alente wurde aber zu eng. Also ging es raus in die Clubs von Holstein bis 
 Bayern\, sowie Frankreich\, der Schweiz und Österreich.
ATTACH;FMTTYPE=image/jpeg:https://altamann.com/wp-content/uploads/2023/10/
 Hanno-Bruhn-Gang.webp
LOCATION:Hafenbar Tegel\, Wilkestraße 1-5\, 13507 Berlin\, Deutschland
X-APPLE-STRUCTURED-LOCATION;VALUE=URI;X-ADDRESS=Wilkestraße 1-5\, 13507 Be
 rlin\, Deutschland;X-APPLE-RADIUS=100;X-TITLE=Hafenbar Tegel:geo:0,0
END:VEVENT
BEGIN:VTIMEZONE
TZID:Europe/Berlin
X-LIC-LOCATION:Europe/Berlin
BEGIN:STANDARD
DTSTART:20231029T020000
TZOFFSETFROM:+0200
TZOFFSETTO:+0100
TZNAME:CET
END:STANDARD
END:VTIMEZONE
END:VCALENDAR