BEGIN:VCALENDAR
VERSION:2.0
PRODID:-//wp-events-plugin.com//7.2.3.1//EN
TZID:Europe/Berlin
X-WR-TIMEZONE:Europe/Berlin
BEGIN:VEVENT
UID:364@altamann.com
DTSTART;TZID=Europe/Berlin:20230422T200000
DTEND;TZID=Europe/Berlin:20230422T223000
DTSTAMP:20230414T221114Z
URL:https://altamann.com/events/hard-travelin/
SUMMARY:Hard Travelin'
DESCRIPTION:Hard Travelin‘ ist eine Alternative Country Rock Band aus Ber
 lin\, Deutschland. Die Band wurde 1991 von Leadsänger Florian Höll\, Bas
 sist Robert Teigeler und Gitarrist Stefan Pick gegründet. Schlagzeuger Uw
 e Lietzow stieß 1997 dazu\, und die Besetzung der Band hat sich seitdem n
 icht verändert – was Hard Travelin‘ zu einer der besten\, erfahrenste
 n und energiegeladensten Live-Bands im Country-Rock Berlins macht.
ATTACH;FMTTYPE=image/jpeg:https://altamann.com/wp-content/uploads/2023/02/
 Hard-Travelin‘-Foto-www.hardtravelin.com_.webp
LOCATION:American Western Saloon - Berlin\, Königshorster Straße 6 (Wilhe
 lmsruher Damm 142 c)\, 13439 Berlin\, Deutschland
X-APPLE-STRUCTURED-LOCATION;VALUE=URI;X-ADDRESS=Königshorster Straße 6 (W
 ilhelmsruher Damm 142 c)\, 13439 Berlin\, Deutschland;X-APPLE-RADIUS=100;X
 -TITLE=American Western Saloon - Berlin:geo:0,0
END:VEVENT
BEGIN:VTIMEZONE
TZID:Europe/Berlin
X-LIC-LOCATION:Europe/Berlin
BEGIN:DAYLIGHT
DTSTART:20230326T030000
TZOFFSETFROM:+0100
TZOFFSETTO:+0200
TZNAME:CEST
END:DAYLIGHT
END:VTIMEZONE
END:VCALENDAR