BEGIN:VCALENDAR
VERSION:2.0
PRODID:-//wp-events-plugin.com//7.2.3.1//EN
TZID:Europe/Berlin
X-WR-TIMEZONE:Europe/Berlin
BEGIN:VEVENT
UID:721@altamann.com
DTSTART;TZID=Europe/Berlin:20240418T200000
DTEND;TZID=Europe/Berlin:20240418T223000
DTSTAMP:20240321T162152Z
URL:https://altamann.com/events/henrik-freischlader-band-keep-playing-tour
 -2024/
SUMMARY:Henrik Freischlader Band | Keep Playing Tour 2024 +++ IM VORVERKAUF
  +++
DESCRIPTION:Henrik Freischlader - Henrik Freischlader gilt immer noch als G
 eheimtipp\, obwohl sich der deutsche Gitarrist und Sänger bereits mit B.B
 . King\, Gary Moore\, Joe Bonamassa und vielen anderen die Bühne geteilt 
 hat.\n\nNach zahlreichen Tourneen ist er aus der internationalen Bluesszen
 e nicht mehr wegzudenken. Sein virtuoses und leidenschaftliches Gitarrensp
 iel\, seine raue markante Stimme und ein Gespür für gute Grooves haben 
 über die Jahre seinen unverwechselbaren Stil geprägt.
ATTACH;FMTTYPE=image/jpeg:https://altamann.com/wp-content/uploads/2024/01/
 Henrik-Freischlader-@Timo-Wilke.webp
LOCATION:Kesselhaus | Maschinenhaus in der Kulturbrauerei Berlin\, Knaackst
 raße 97\, 10435 Berlin\, Deutschland
X-APPLE-STRUCTURED-LOCATION;VALUE=URI;X-ADDRESS=Knaackstraße 97\, 10435 Be
 rlin\, Deutschland;X-APPLE-RADIUS=100;X-TITLE=Kesselhaus | Maschinenhaus i
 n der Kulturbrauerei Berlin:geo:0,0
END:VEVENT
BEGIN:VTIMEZONE
TZID:Europe/Berlin
X-LIC-LOCATION:Europe/Berlin
BEGIN:DAYLIGHT
DTSTART:20240331T030000
TZOFFSETFROM:+0100
TZOFFSETTO:+0200
TZNAME:CEST
END:DAYLIGHT
END:VTIMEZONE
END:VCALENDAR