BEGIN:VCALENDAR
VERSION:2.0
PRODID:-//wp-events-plugin.com//7.2.3.1//EN
TZID:Europe/Berlin
X-WR-TIMEZONE:Europe/Berlin
BEGIN:VEVENT
UID:548@altamann.com
DTSTART;TZID=Europe/Berlin:20240203T190000
DTEND;TZID=Europe/Berlin:20240203T220000
DTSTAMP:20231121T191634Z
URL:https://altamann.com/events/holy-blues-rockez/
SUMMARY:Holy Blues Rockez
DESCRIPTION:Holy Blues Rockez - Gestandene Musiker\, die schon seit einiger
  Zeit in verschiedenen Formationen auf der Musik-Szene unterwegs sind. Bei
  den`Rockez`gibt es den Blues frisch verpackt. Traditionals and Favourites
  funky interpretiert. Groove und Spielfreude geben der Band eine spezielle
  Note. Ein Sound der in die Beine geht. But the Blues don’t change.
ATTACH;FMTTYPE=image/jpeg:https://altamann.com/wp-content/uploads/2023/07/
 Holy-Blues-Rockez.webp
LOCATION:Krissi Kneipe\, Antwerpener Str. 8\, 13353 Berlin\, Deutschland
X-APPLE-STRUCTURED-LOCATION;VALUE=URI;X-ADDRESS=Antwerpener Str. 8\, 13353 
 Berlin\, Deutschland;X-APPLE-RADIUS=100;X-TITLE=Krissi Kneipe:geo:0,0
END:VEVENT
BEGIN:VTIMEZONE
TZID:Europe/Berlin
X-LIC-LOCATION:Europe/Berlin
BEGIN:STANDARD
DTSTART:20231029T020000
TZOFFSETFROM:+0200
TZOFFSETTO:+0100
TZNAME:CET
END:STANDARD
END:VTIMEZONE
END:VCALENDAR