BEGIN:VCALENDAR
VERSION:2.0
PRODID:-//wp-events-plugin.com//7.2.3.1//EN
TZID:Europe/Berlin
X-WR-TIMEZONE:Europe/Berlin
BEGIN:VEVENT
UID:1381@altamann.com
DTSTART;TZID=Europe/Berlin:20260305T200000
DTEND;TZID=Europe/Berlin:20260305T230000
DTSTAMP:20260119T155052Z
URL:https://altamann.com/events/ian-paice-feat-purpendicular-performing-cl
 asic-deep-purple-whitesnake/
SUMMARY:Ian Paice feat. Purpendicular | Performing Clasic Deep Purple & Whi
 tesnake
DESCRIPTION:Ian Paice feat. Purpendicular | Performing Clasic Deep Purple &
  Whitesnake - Ursprünglich 2007 vom irischen Frontmann Robby Thomas Walsh
  als Hommage an Deep Purple gegründet\, hat sich Purpendicular zu einem K
 raftpaket für Originalmusik entwickelt und definiert seine Identität sei
 t 2019 neu.
ATTACH;FMTTYPE=image/jpeg:https://altamann.com/wp-content/uploads/2026/01/
 Ian-Paice.webp
LOCATION:Kesselhaus | Maschinenhaus in der Kulturbrauerei Berlin\, Knaackst
 raße 97\, 10435 Berlin\, Deutschland
X-APPLE-STRUCTURED-LOCATION;VALUE=URI;X-ADDRESS=Knaackstraße 97\, 10435 Be
 rlin\, Deutschland;X-APPLE-RADIUS=100;X-TITLE=Kesselhaus | Maschinenhaus i
 n der Kulturbrauerei Berlin:geo:0,0
END:VEVENT
BEGIN:VTIMEZONE
TZID:Europe/Berlin
X-LIC-LOCATION:Europe/Berlin
BEGIN:STANDARD
DTSTART:20251026T020000
TZOFFSETFROM:+0200
TZOFFSETTO:+0100
TZNAME:CET
END:STANDARD
END:VTIMEZONE
END:VCALENDAR