BEGIN:VCALENDAR
VERSION:2.0
PRODID:-//wp-events-plugin.com//7.2.3.1//EN
TZID:Europe/Berlin
X-WR-TIMEZONE:Europe/Berlin
BEGIN:VEVENT
UID:334@altamann.com
DTSTART;TZID=Europe/Berlin:20230409T180000
DTEND;TZID=Europe/Berlin:20230409T220000
DTSTAMP:20230222T183916Z
URL:https://altamann.com/events/icon-myartberlin-vernissage/
SUMMARY:ICON.myartBerlin | Vernissage
DESCRIPTION:Mit der Ausstellung ICON im ART Stalker zeigt myart.Berlin Char
 akter und Charaktere – in Portraits und abstrakten Gemälden. Kräftiger
 \, kontrastreicher und satter Farbeinsatz verleihen den Bildern Stärke. D
 urch den Einsatz verschiedener Techniken werden Akzente gesetzt und geheim
 nisvolle Momente geschaffen. Die intensiven Farben haben eine unaufdringli
 che\, aber dennoch einnehmende Anziehungskraft.
ATTACH;FMTTYPE=image/jpeg:https://altamann.com/wp-content/uploads/2023/02/
 ICON.myartBerlin.webp
LOCATION:ART Stalker\, Kaiser-Friedrich-Straße 67\, 10627 Berlin\, Deutsch
 land
X-APPLE-STRUCTURED-LOCATION;VALUE=URI;X-ADDRESS=Kaiser-Friedrich-Straße 67
 \, 10627 Berlin\, Deutschland;X-APPLE-RADIUS=100;X-TITLE=ART Stalker:geo:0
 ,0
END:VEVENT
BEGIN:VTIMEZONE
TZID:Europe/Berlin
X-LIC-LOCATION:Europe/Berlin
BEGIN:DAYLIGHT
DTSTART:20230326T030000
TZOFFSETFROM:+0100
TZOFFSETTO:+0200
TZNAME:CEST
END:DAYLIGHT
END:VTIMEZONE
END:VCALENDAR