BEGIN:VCALENDAR
VERSION:2.0
PRODID:-//wp-events-plugin.com//7.2.3.1//EN
TZID:Europe/Berlin
X-WR-TIMEZONE:Europe/Berlin
BEGIN:VEVENT
UID:712@altamann.com
DTSTART;TZID=Europe/Berlin:20231223T190000
DTEND;TZID=Europe/Berlin:20231223T234500
DTSTAMP:20231128T204114Z
URL:https://altamann.com/events/ingrid-arthur-christmas-only-once-a-year/
SUMMARY:Ingrid Arthur – Christmas Only Once A Year
DESCRIPTION:Ingrid Arthur – Christmas Only Once A Year | Nach den umjubel
 ten Konzerten zum letzten Weihnachtsfest können wir nun erneut die großa
 rtige Ingrid Arthur im ZigZag - Jazzclub willkommen heißen! Das Ex-Weathe
 r-Girl wird in diesem exklusiven Doppelkonzert mit ihrer warmen Stimme das
  weihnachtliche Eis zum Schmelzen bringen und mit Ihnen zusammen das Fest 
 der Liebe einläuten. Reservieren Sie schnell ihre Tickets!\n\nDie in Gain
 esville\, Georgia (USA) geborene Ingrid Arthur ist eine der mächtigsten S
 timmen in der gegenwärtigen Musik. Sie ist nicht nur eine wunderbare Sän
 gerin\, sie ist wahrhaft eine der Göttinen des Souls.
ATTACH;FMTTYPE=image/jpeg:https://altamann.com/wp-content/uploads/2023/11/
 Ingrid-Arthur-Christmas-2023.webp
LOCATION:Zig Zag Jazz Club\, Hauptstraße 89\, 12159 Berlin\, Deutschland
X-APPLE-STRUCTURED-LOCATION;VALUE=URI;X-ADDRESS=Hauptstraße 89\, 12159 Ber
 lin\, Deutschland;X-APPLE-RADIUS=100;X-TITLE=Zig Zag Jazz Club:geo:0,0
END:VEVENT
BEGIN:VTIMEZONE
TZID:Europe/Berlin
X-LIC-LOCATION:Europe/Berlin
BEGIN:STANDARD
DTSTART:20231029T020000
TZOFFSETFROM:+0200
TZOFFSETTO:+0100
TZNAME:CET
END:STANDARD
END:VTIMEZONE
END:VCALENDAR