BEGIN:VCALENDAR
VERSION:2.0
PRODID:-//wp-events-plugin.com//7.2.3.1//EN
TZID:Europe/Berlin
X-WR-TIMEZONE:Europe/Berlin
BEGIN:VEVENT
UID:1438@altamann.com
DTSTART;TZID=Europe/Berlin:20260418T200000
DTEND;TZID=Europe/Berlin:20260418T220000
DTSTAMP:20260417T074714Z
URL:https://altamann.com/events/jack-n-jill-party-rock/
SUMMARY:Jack ’n‘ Jill - Party-Rock
DESCRIPTION: Jack ’n‘ Jill - Party-Rock - Vor über 30 Jahren mit Punk-
 Rock in Berlin-Moabit gestartet\, machen Jack´n`Jill heute noch in Orgina
 lbesetzung ganz einfach das\, was Ihnen und Ihrem Publikum richtig Spaß b
 ringt: Mit Gitarren\, Bass\, Drums\, Bläsern\, Harp\, Banjo\, mehrstimmig
 en Gesang und Gastmusikern abgehen & live das Leben feiern.
ATTACH;FMTTYPE=image/jpeg:https://altamann.com/wp-content/uploads/2026/04/
 Jack´nJill.webp
LOCATION:ART Stalker\, Kaiser-Friedrich-Straße 67\, 10627 Berlin\, Deutsch
 land
X-APPLE-STRUCTURED-LOCATION;VALUE=URI;X-ADDRESS=Kaiser-Friedrich-Straße 67
 \, 10627 Berlin\, Deutschland;X-APPLE-RADIUS=100;X-TITLE=ART Stalker:geo:0
 ,0
END:VEVENT
BEGIN:VTIMEZONE
TZID:Europe/Berlin
X-LIC-LOCATION:Europe/Berlin
BEGIN:DAYLIGHT
DTSTART:20260329T030000
TZOFFSETFROM:+0100
TZOFFSETTO:+0200
TZNAME:CEST
END:DAYLIGHT
END:VTIMEZONE
END:VCALENDAR