BEGIN:VCALENDAR
VERSION:2.0
PRODID:-//wp-events-plugin.com//7.2.3.1//EN
TZID:Europe/Berlin
X-WR-TIMEZONE:Europe/Berlin
BEGIN:VEVENT
UID:720@altamann.com
DTSTART;TZID=Europe/Berlin:20260227T200000
DTEND;TZID=Europe/Berlin:20260227T230000
DTSTAMP:20260118T110235Z
URL:https://altamann.com/events/jan-plewka-singt-rio-reiser-wann-wenn-nich
 t-jetzt/
SUMMARY:Jan Plewka singt Rio Reiser | "Lass uns ein Wunder sein" - Es spiel
 t dei Schwarz-Rote Heilsarmee
DESCRIPTION:Jan Plewka - Kein „König von Deutschland“ mehr\, kein „J
 unimond“. Gespielt werden „Jenseits von Eden“\, „Warum geht es mir
  so dreckig?“ und „Macht kaputt\, was Euch kaputt macht“.\n\nEine gr
 oße\, kraftvolle und bilderreiche Show\, die sich zwischen Theater\, Perf
 ormance und Konzert bewegt. Und Jan Plewka wandelt erneut auf den Spuren v
 on Rio Reiser\, macht dessen Songs auf der Bühne zu seinen eigenen. Diese
  Musik sei so ganz und gar nicht von gestern\, befand denn auch das Hambur
 ger Abendblatt.
ATTACH;FMTTYPE=image/jpeg:https://altamann.com/wp-content/uploads/2024/01/
 Jan-Plewka-1.webp
LOCATION:Kesselhaus | Maschinenhaus in der Kulturbrauerei Berlin\, Knaackst
 raße 97\, 10435 Berlin\, Deutschland
X-APPLE-STRUCTURED-LOCATION;VALUE=URI;X-ADDRESS=Knaackstraße 97\, 10435 Be
 rlin\, Deutschland;X-APPLE-RADIUS=100;X-TITLE=Kesselhaus | Maschinenhaus i
 n der Kulturbrauerei Berlin:geo:0,0
END:VEVENT
BEGIN:VTIMEZONE
TZID:Europe/Berlin
X-LIC-LOCATION:Europe/Berlin
BEGIN:STANDARD
DTSTART:20251026T020000
TZOFFSETFROM:+0200
TZOFFSETTO:+0100
TZNAME:CET
END:STANDARD
END:VTIMEZONE
END:VCALENDAR