BEGIN:VCALENDAR
VERSION:2.0
PRODID:-//wp-events-plugin.com//7.2.3.1//EN
TZID:Europe/Berlin
X-WR-TIMEZONE:Europe/Berlin
BEGIN:VEVENT
UID:1270@altamann.com
DTSTART;TZID=Europe/Berlin:20251023T200000
DTEND;TZID=Europe/Berlin:20251023T223000
DTSTAMP:20250920T171243Z
URL:https://altamann.com/events/jax-hollow-usa-im-musicclub-schmoelln/
SUMMARY:Jax Hollow - USA - im MusicClub Schmölln
DESCRIPTION:Jax Hollow - USA - im MusicClub Schmölln - Eine aufstrebende K
 raft in Nashville und darüber hinaus. In einer Stadt\, in der einige der 
 talentiertesten Entertainer der Welt zu Hause sind\, sticht Jax Hollow aus
  Nashville als seltene Dreifachbegabung hervor. Eine nuancierte und kraftv
 olle Songwriterin\, eine stimmgewaltige Sängerin und eine Weltklasse-Gita
 rristin. Sie ist die wahre Verkörperung der „Music City Trifecta“. Ja
 x' außergewöhnliche Songwriting-Fähigkeiten haben ihr bemerkenswert. An
 erkennung eingebracht\, darunter den ersten Platz beim renommierten ISC So
 ngwriting-Wettbewerb für ihren Titel „Wolf In Sheepskin“. Als Absolve
 ntin des renommierten Berklee College of Music ist Jax auf der Bühne gena
 uso überzeugend wie im Studio.
ATTACH;FMTTYPE=image/jpeg:https://altamann.com/wp-content/uploads/2025/07/
 Jax-Hollow-MusicClub-Schmoelln-23.10.2025.webp
LOCATION:MusicClub Schmölln\, An der Sprotte 5/1\, 04626 Schmölln \, Deut
 schland
X-APPLE-STRUCTURED-LOCATION;VALUE=URI;X-ADDRESS=An der Sprotte 5/1\, 04626 
 Schmölln \, Deutschland;X-APPLE-RADIUS=100;X-TITLE=MusicClub Schmölln:ge
 o:0,0
END:VEVENT
BEGIN:VTIMEZONE
TZID:Europe/Berlin
X-LIC-LOCATION:Europe/Berlin
BEGIN:DAYLIGHT
DTSTART:20250330T030000
TZOFFSETFROM:+0100
TZOFFSETTO:+0200
TZNAME:CEST
END:DAYLIGHT
END:VTIMEZONE
END:VCALENDAR