BEGIN:VCALENDAR
VERSION:2.0
PRODID:-//wp-events-plugin.com//7.2.3.1//EN
TZID:Europe/Berlin
X-WR-TIMEZONE:Europe/Berlin
BEGIN:VEVENT
UID:336@altamann.com
DTSTART;TZID=Europe/Berlin:20230503T200000
DTEND;TZID=Europe/Berlin:20230503T220000
DTSTAMP:20230414T230236Z
URL:https://altamann.com/events/jerry-leger-folk-rock-country/
SUMMARY:Jerry Leger | Folk Rock Country
DESCRIPTION:Jerry Leger - Nachdem er im März 2022 sein Album Nothing Press
 ing veröffentlichte\, folgte nun Anfang 2023 zusammen mit seiner Band die
  EP Live from Paradise. Jerry Leger entdeckte schon früh\, dass er späte
 r einmal Musik machen will und ließ sich unter anderem von Künstlern wie
  Hank Williams\, Bob Dylan\, Lightnin' Hopkins\, Leonard Cohen inspirieren
 . Heute kann sein ein Musikstil als Mix aus Rock\, Country und Zeitgenöss
 ischer Folk beschrieben werden.
ATTACH;FMTTYPE=image/jpeg:https://altamann.com/wp-content/uploads/2023/02/
 Jerry-Leger-Art-Stalker.webp
LOCATION:ART Stalker\, Kaiser-Friedrich-Straße 67\, 10627 Berlin\, Deutsch
 land
X-APPLE-STRUCTURED-LOCATION;VALUE=URI;X-ADDRESS=Kaiser-Friedrich-Straße 67
 \, 10627 Berlin\, Deutschland;X-APPLE-RADIUS=100;X-TITLE=ART Stalker:geo:0
 ,0
END:VEVENT
BEGIN:VTIMEZONE
TZID:Europe/Berlin
X-LIC-LOCATION:Europe/Berlin
BEGIN:DAYLIGHT
DTSTART:20230326T030000
TZOFFSETFROM:+0100
TZOFFSETTO:+0200
TZNAME:CEST
END:DAYLIGHT
END:VTIMEZONE
END:VCALENDAR