BEGIN:VCALENDAR
VERSION:2.0
PRODID:-//wp-events-plugin.com//7.2.3.1//EN
TZID:Europe/Berlin
X-WR-TIMEZONE:Europe/Berlin
BEGIN:VEVENT
UID:1379@altamann.com
DTSTART;TZID=Europe/Berlin:20260613T200000
DTEND;TZID=Europe/Berlin:20260613T220000
DTSTAMP:20260310T191403Z
URL:https://altamann.com/events/kalkowski-live-in-der-mitte-in-neukoelln/
SUMMARY:KALKOWSKI LIVE in der Mitte in Neukölln
DESCRIPTION:KALKOWSKI LIVE in der Mitte in Neukölln - Hallo liebe Freunde\
 , der Kalkowski Band\,\nam 13.06.26 gibt es wieder eines ihrer legendären
  Konzerte in der Mitte in Neukölln!
ATTACH;FMTTYPE=image/jpeg:https://altamann.com/wp-content/uploads/2026/01/
 KALKOWSKI-Schwarz-Zur-Mitte-DIN-A1-Upside-down-Blue.jpg
LOCATION:Zur Mitte | Rock-und Metal Bar/Kneipe\, Herrnhuter Weg 13\, 12043 
 Berlin\, Deutschland
X-APPLE-STRUCTURED-LOCATION;VALUE=URI;X-ADDRESS=Herrnhuter Weg 13\, 12043 B
 erlin\, Deutschland;X-APPLE-RADIUS=100;X-TITLE=Zur Mitte | Rock-und Metal 
 Bar/Kneipe:geo:0,0
END:VEVENT
BEGIN:VTIMEZONE
TZID:Europe/Berlin
X-LIC-LOCATION:Europe/Berlin
BEGIN:DAYLIGHT
DTSTART:20260329T030000
TZOFFSETFROM:+0100
TZOFFSETTO:+0200
TZNAME:CEST
END:DAYLIGHT
END:VTIMEZONE
END:VCALENDAR