BEGIN:VCALENDAR
VERSION:2.0
PRODID:-//wp-events-plugin.com//7.2.3.1//EN
TZID:Europe/Berlin
X-WR-TIMEZONE:Europe/Berlin
BEGIN:VEVENT
UID:840@altamann.com
DTSTART;TZID=Europe/Berlin:20240621T200000
DTEND;TZID=Europe/Berlin:20240621T220000
DTSTAMP:20240131T112046Z
URL:https://altamann.com/events/konstantin-wecker-lieder-meines-lebens-duo
 /
SUMMARY:Konstantin Wecker - Lieder meines Lebens - Duo
DESCRIPTION:Konstantin Wecker\n\nBekannt wurde der in München geborene\, b
 ereits seit mehr als 50 Jahren im deutschsprachigen Raum aktive Konstantin
  Wecker mit seinen Liedern und Konzerten\, in denen es ihm sein Leben lang
  das wichtigste Anliegen ist\, authentisch zu bleiben und sich für eine m
 itmenschliche\, gleichberechtigte und herrschaftsfreie Gesellschaft einzus
 etzen.\n\nMal streitbar\, mal besinnlich\, mal sanft\, mal explosiv – ab
 er immer leidenschaftlich: So kennt und liebt das Publikum den Poeten und 
 Musiker. Wer ihn nur als Liedermacher wahrnimmt\, übersieht sein ungemein
  vielfältiges weiteres Schaffen.
ATTACH;FMTTYPE=image/jpeg:https://altamann.com/wp-content/uploads/2024/01/
 Konstantin-Wecker-Lieder-meines-Lebens.webp
LOCATION:Ernst-Reuter-Saal | Rathaus Reinickendorf\, Eichborndamm 215\, 134
 37 Berlin\, Deutschland
X-APPLE-STRUCTURED-LOCATION;VALUE=URI;X-ADDRESS=Eichborndamm 215\, 13437 Be
 rlin\, Deutschland;X-APPLE-RADIUS=100;X-TITLE=Ernst-Reuter-Saal | Rathaus 
 Reinickendorf:geo:0,0
END:VEVENT
BEGIN:VTIMEZONE
TZID:Europe/Berlin
X-LIC-LOCATION:Europe/Berlin
BEGIN:DAYLIGHT
DTSTART:20240331T030000
TZOFFSETFROM:+0100
TZOFFSETTO:+0200
TZNAME:CEST
END:DAYLIGHT
END:VTIMEZONE
END:VCALENDAR