BEGIN:VCALENDAR
VERSION:2.0
PRODID:-//wp-events-plugin.com//7.2.3.1//EN
TZID:Europe/Berlin
X-WR-TIMEZONE:Europe/Berlin
BEGIN:VEVENT
UID:981@altamann.com
DTSTART;TZID=Europe/Berlin:20250111T190000
DTEND;TZID=Europe/Berlin:20250111T213000
DTSTAMP:20240819T211411Z
URL:https://altamann.com/events/kreisler-reissner-2/
SUMMARY:Kreisler–Reissner | Das Programm – Ein Abend mit Hans & Gina
DESCRIPTION:Kreisler–Reissner - Im Februar startete das neue Programm mit
  Liedern von Georg Kreisler und Hans Reißner. Der schneidend\, charmante 
 Humor des Georg Kreisler\, präsentiert von Hans & Gina im Kulturrestauran
 t Dicke Paula. Komplettiert wird dieser Abend durch die Couplets des Berli
 ner Musikers Hans Reißner am Piano\, dessen schneidender Berliner Humor w
 underbar zu den Liedern des Georg Kreisler passt.
ATTACH;FMTTYPE=image/jpeg:https://altamann.com/wp-content/uploads/2024/06/
 Kreissler-Reissner-Programm.webp
LOCATION:Kulturrestaurant Dicke Paula\, Schlieperstraße 69\, 13507 Berlin\
 , Deutschland
X-APPLE-STRUCTURED-LOCATION;VALUE=URI;X-ADDRESS=Schlieperstraße 69\, 13507
  Berlin\, Deutschland;X-APPLE-RADIUS=100;X-TITLE=Kulturrestaurant Dicke Pa
 ula:geo:0,0
END:VEVENT
BEGIN:VTIMEZONE
TZID:Europe/Berlin
X-LIC-LOCATION:Europe/Berlin
BEGIN:STANDARD
DTSTART:20241027T020000
TZOFFSETFROM:+0200
TZOFFSETTO:+0100
TZNAME:CET
END:STANDARD
END:VTIMEZONE
END:VCALENDAR