BEGIN:VCALENDAR
VERSION:2.0
PRODID:-//wp-events-plugin.com//7.2.3.1//EN
TZID:Europe/Berlin
X-WR-TIMEZONE:Europe/Berlin
BEGIN:VEVENT
UID:766@altamann.com
DTSTART;TZID=Europe/Berlin:20240214T200000
DTEND;TZID=Europe/Berlin:20240214T223000
DTSTAMP:20240209T102857Z
URL:https://altamann.com/events/lars-vegas-juke-joint-blues-4/
SUMMARY:Lars Vegas - Juke Joint Blues
DESCRIPTION:Lars Vegas - Keiner singt den "Delta Blues" besser als er. Der 
 Sänger und Gitarrist Lars Vegas (eigentlich Lars Voges)\, hat in seiner b
 isherigen Karriere als Musiker schon viel erlebt:In der Royal Albert Hall 
 in London eröffnete er für Jeff Beckund im Circus in Stockholm stand er 
 in den Fußstapfen von Johnny Cash und Jacques Tati.
ATTACH;FMTTYPE=image/jpeg:https://altamann.com/wp-content/uploads/2022/12/
 Lars-Vegas.webp
LOCATION:Yorckschlösschen\, Yorckstraße 15\, 10965 Berlin\, Deutschland
X-APPLE-STRUCTURED-LOCATION;VALUE=URI;X-ADDRESS=Yorckstraße 15\, 10965 Ber
 lin\, Deutschland;X-APPLE-RADIUS=100;X-TITLE=Yorckschlösschen:geo:0,0
END:VEVENT
BEGIN:VTIMEZONE
TZID:Europe/Berlin
X-LIC-LOCATION:Europe/Berlin
BEGIN:STANDARD
DTSTART:20231029T020000
TZOFFSETFROM:+0200
TZOFFSETTO:+0100
TZNAME:CET
END:STANDARD
END:VTIMEZONE
END:VCALENDAR